{"text_format":"2","workbook":"xlsx","n_sheets":2,"sheets":["5月育雏舍","5月份育成"],"not_rendered":{"charts":0,"images":0,"macros":0,"external_links":0,"defined_names":2,"comments":0,"pivot_tables":0},"unopened":[],"bounds":{"document_bytes":16777216,"sheet_cells":100000,"run_cost":"one","rows_first":2000,"rows_last":500,"rows_between":2000,"halvings":0,"cell_chars":16384,"cell_head_chars":4096},"cells_cut":0,"cells_raw":0,"read":"whole","date_system":"1900"}

{"sheet":"5月育雏舍","index":0,"n_rows":9,"n_cols":17,"rows_kept":9,"cut":false,"hidden":false,"merged":[[0,0,0,16],[1,3,1,4],[1,5,1,6],[1,7,1,8],[1,9,1,10],[1,11,1,12],[1,13,1,14],[6,0,6,2],[8,0,8,16],[9,0,9,16],[10,0,10,16],[1,0,2,0],[1,1,2,1],[1,2,2,2],[1,15,2,15],[1,16,2,16]]}
["2025年5月份 弥勒育种场（育雏舍） 月报表"]
["鸡舍","品种","5月末\n日龄","上月存栏",null,"本月进苗",null,"本月死亡",null,"本月淘汰",null,"本月转出",null,"本月存栏",null,"成活率\n%","备注"]
[null,null,null,"♂","♀","♂","♀","♂","♀","♂","♀","♂","♀","♂","♀"]
["育雏5/6舍","M系第1批","17",0,0,0,6379,0,73,0,901,0,0,{"$f":"D4+F4-H4-J4-#REF!-L4","v":{"$error":"#REF!"}},{"$f":"E4+G4-I4-K4-#REF!-M4","v":{"$error":"#REF!"}},{"$f":"1-(H4+I4+J4+K4)/(D4+E4+F4+G4)","v":0.847311490829284}]
["育雏3/4舍","M系第2批","4",0,0,0,6355,0,2,0,207,0,0,{"$f":"D5+F5-H5-J5-#REF!-L5","v":{"$error":"#REF!"}},{"$f":"E5+G5-I5-K5-#REF!-M5","v":{"$error":"#REF!"}},{"$f":"1-(H5+I5+J5+K5)/(D5+E5+F5+G5)","v":0.967112509834776}]
[]
["育成舍合计",null,null,{"$f":"SUM(D4:D5)","v":0},{"$f":"SUM(E4:E5)","v":0},0,12734,0,75,0,1108,{"$f":"SUM(L4:L5)","v":0},{"$f":"SUM(M4:M5)","v":0},{"$f":"SUM(N4:N5)","v":{"$error":"#REF!"}},{"$f":"SUM(O4:O5)","v":{"$error":"#REF!"}},{"$f":"1-(H7+I7)/(D7+E7+F7+G7)","v":0.994110256007539}]
[]
["转出到育成舍0只混合苗。"]

{"sheet":"5月份育成","index":1,"n_rows":15,"n_cols":17,"rows_kept":15,"cut":false,"hidden":false,"merged":[[0,0,0,16],[1,3,1,4],[1,5,1,6],[1,7,1,8],[1,9,1,10],[1,11,1,12],[1,13,1,14],[9,0,9,2],[11,0,11,16],[12,0,12,16],[13,0,13,16],[14,0,14,16],[1,0,2,0],[1,1,2,1],[1,2,2,2],[1,15,2,15],[1,16,2,16]]}
["2025年5月份 弥勒育种场（育成舍） 月报表"]
["鸡舍","品种","5月末\n日龄","上月存栏",null,"本月转入",null,"本月死亡",null,"本月淘汰",null,"本月转出",null,"本月存栏",null,"成活率\n%","备注"]
[null,null,null,"♂","♀","♂","♀","♂","♀","♂","♀","♂","♀","♂","♀"]
["育成10舍","N系第1批","69",1905,2142,0,0,20,0,16,18,0,0,{"$f":"D4+F4-H4-J4-#REF!-L4","v":{"$error":"#REF!"}},{"$f":"E4+G4-I4-K4-#REF!-M4","v":{"$error":"#REF!"}},{"$f":"1-(H4+I4+J4+K4)/(D4+E4+F4+G4)","v":0.986656782802076}]
["育成9舍","N系第2批","59",1920,2522,0,0,9,3,34,27,0,0,{"$f":"D5+F5-H5-J5-#REF!-L5","v":{"$error":"#REF!"}},{"$f":"E5+G5-I5-K5-#REF!-M5","v":{"$error":"#REF!"}},{"$f":"1-(H5+I5+J5+K5)/(D5+E5+F5+G5)","v":0.983565961278703}]
["育成6舍","C系第2批","116",244,2040,0,0,2,21,5,21,237,1992,{"$f":"D6+F6-H6-J6-#REF!-L6","v":{"$error":"#REF!"}},{"$f":"E6+G6-I6-K6-#REF!-M6","v":{"$error":"#REF!"}},{"$f":"1-(H6+I6+J6+K6)/(D6+E6+F6+G6)","v":0.978546409807356},"转群至产蛋8舍"]
["育成7舍","D系第4批","109",229,1871,0,0,1,8,20,5,0,0,{"$f":"D7+F7-H7-J7-#REF!-L7","v":{"$error":"#REF!"}},{"$f":"E7+G7-I7-K7-#REF!-M7","v":{"$error":"#REF!"}},{"$f":"1-(H7+I7+J7+K7)/(D7+E7+F7+G7)","v":0.983809523809524}]
["育成12舍","C系第3批","99",253,1611,0,0,5,19,26,27,0,0,{"$f":"D8+F8-H8-J8-#REF!-L8","v":{"$error":"#REF!"}},{"$f":"E8+G8-I8-K8-#REF!-M8","v":{"$error":"#REF!"}},{"$f":"1-(H8+I8+J8+K8)/(D8+E8+F8+G8)","v":0.958690987124464}]
[]
["育成舍合计",null,null,{"$f":"SUM(D4:D8)","v":4551},{"$f":"SUM(E4:E8)","v":10186},{"$f":"SUM(F4:F8)","v":0},{"$f":"SUM(G4:G8)","v":0},{"$f":"SUM(H4:H8)","v":37},{"$f":"SUM(I4:I8)","v":51},{"$f":"SUM(J4:J8)","v":101},{"$f":"SUM(K4:K8)","v":98},{"$f":"SUM(L4:L8)","v":237},1992,{"$error":"#REF!"},{"$error":"#REF!"},{"$f":"1-(H10+I10+J10+K10)/(D10+E10+F10+G10)","v":0.980525208658479}]
[]
["育种场育雏舍转入：0只混合苗。"]
["转到产蛋舍：237只公鸡，1992只母鸡。"]
["转入祖代肉鸡舍：0只公鸡，0只母鸡。销售：1676只公鸡，954只母鸡。"]
["转入祖代产蛋二区：0只公鸡，0只母鸡。"]